BEGIN:VCALENDAR
VERSION:2.0
PRODID:-//eventon.com NONSGML v1.0//EN
CALSCALE:GREGORIAN
METHOD:PUBLISH
BEGIN:VEVENT
UID:69eb7e4a199cc
DTSTAMP:20260424T142930Z
DTSTART:20260508T183000Z
DTEND:20260508T215900Z
LOCATION:
SUMMARY:"Filastrocche mostruose per stomaci forti"
DESCRIPTION:Présentation du livre de Beatrice Bergiacchi &#8220;Filastrocc
 he mostruose per stomaci forti&#8221; &#8230;&#8221;apprivoiser nos monstre
 s avec tendresse&#8221;&#8230; en présence de l&#8217;autrice. Entrée lib
 re infos et réservations: aquiloneinfo@gmail.com\nhttps://aquilone.be/even
 ts/52797/
URL:https://aquilone.be/events/52797/
END:VEVENT
END:VCALENDAR