BEGIN:VCALENDAR
VERSION:2.0
PRODID:-//eventon.com NONSGML v1.0//EN
CALSCALE:GREGORIAN
METHOD:PUBLISH
BEGIN:VEVENT
UID:69eb77f2a2e67
DTSTAMP:20260424T140226Z
DTSTART:20260613T183000Z
DTEND:20260613T215900Z
LOCATION:
SUMMARY:Super Power (cover Alpha Blondy)
DESCRIPTION:Concert de la cover band Super Power (Reggae\,  reprises de Alp
 ha Blondy). Paf 10€ Infos et réservations : aquiloneinfo@gmail.com &nbsp
 ;\nhttps://aquilone.be/events/super-power-cover-alpha-blondy/
URL:https://aquilone.be/events/super-power-cover-alpha-blondy/
END:VEVENT
END:VCALENDAR