BEGIN:VCALENDAR
VERSION:2.0
PRODID:-//eventon.com NONSGML v1.0//EN
CALSCALE:GREGORIAN
METHOD:PUBLISH
BEGIN:VEVENT
UID:69e9794f83559
DTSTAMP:20260423T014343Z
DTSTART:20260501T190000Z
DTEND:20260501T215900Z
LOCATION:
SUMMARY:Soirée DJ du 1er mai avec Sugah Lewis
DESCRIPTION:Pour terminer en beauté les festivités du 1er mai RDV à L&#8
 217;Aquilone àpd 21h pour une soirée inoubliable en compagnie de la musiq
 ue rythmée de Sugah Lewis\nhttps://aquilone.be/events/soiree-dj-du-1er-mai
 -avec-sugah-lewis/
URL:https://aquilone.be/events/soiree-dj-du-1er-mai-avec-sugah-lewis/
END:VEVENT
END:VCALENDAR