BEGIN:VCALENDAR
VERSION:2.0
PRODID:-//eventon.com NONSGML v1.0//EN
CALSCALE:GREGORIAN
METHOD:PUBLISH
BEGIN:VEVENT
UID:69e733cb06c51
DTSTAMP:20260421T082235Z
DTSTART:20260314T190000Z
DTEND:20260314T225900Z
LOCATION:
SUMMARY:Monsieur MK release party
DESCRIPTION:Monsieur MK nous dévoile son nouveau travail en compagnie de s
 a live band et ses Guests : Fizz\,  NHL\,  Braco\,  Drumerdi et Olibass\,  
 une soirée à ne pas rater!!! Paf : prévente 9€ et 10€ sur place\nhtt
 ps://aquilone.be/events/monsieur-mk-release-party/
URL:https://aquilone.be/events/monsieur-mk-release-party/
END:VEVENT
END:VCALENDAR